{"text_format":"1","workbook":"xlsx","n_sheets":6,"sheets":["入力シート","学校対抗戦","男子個人対抗戦","女子個人対抗戦","男子一覧表","女子一覧表"],"not_rendered":{"charts":0,"images":0,"macros":1,"external_links":1,"defined_names":44,"comments":0,"pivot_tables":0},"unopened":[],"bounds":{"document_bytes":16777216,"sheet_cells":100000,"rows_first":2000,"rows_last":500,"rows_between":2000,"halvings":0,"cell_chars":16384,"cell_head_chars":4096},"cells_cut":0,"cells_raw":0,"read":"whole","date_system":"1900"}

{"sheet":"入力シート","index":0,"n_rows":83,"n_cols":13,"rows_kept":83,"cut":false,"hidden":false,"merged":[[0,1,0,4],[2,1,2,2],[3,1,3,2],[4,1,4,2],[6,1,6,2],[7,1,7,2],[8,1,8,2],[9,1,9,2],[10,1,10,2],[11,1,11,2],[12,1,12,2],[13,1,13,2],[14,1,14,2],[15,1,15,2],[16,1,16,2],[17,1,17,2],[18,1,18,2],[19,1,19,2],[20,1,20,2],[22,1,22,4],[24,1,24,2],[25,1,25,2],[26,1,26,2],[28,10,28,11],[29,10,29,11],[30,10,30,11],[31,10,31,11],[32,10,32,11],[33,10,33,11],[34,10,34,11],[35,10,35,11],[36,10,36,11],[37,10,37,11],[38,10,38,11],[39,10,39,11],[40,10,40,11],[41,10,41,11],[42,10,42,11],[43,10,43,11],[44,10,44,11],[45,10,45,11],[46,10,46,11],[47,10,47,11],[48,10,48,11],[49,10,49,11],[50,10,50,11],[51,10,51,11],[52,10,52,11],[53,10,53,11],[54,10,54,11],[55,10,55,11],[56,10,56,11],[57,10,57,11],[58,10,58,11],[59,10,59,11],[60,10,60,11],[62,1,62,4],[64,1,64,2],[65,1,65,2],[66,1,66,2],[68,10,68,11],[69,10,69,11],[70,10,70,11],[71,10,71,11],[72,10,72,11],[73,10,73,11],[74,10,74,11],[75,10,75,11],[76,10,76,11],[77,10,77,11],[78,10,78,11],[79,10,79,11],[80,10,80,11],[81,10,81,11],[82,10,82,11]]}
[null,"学校対抗戦",null,null,null,null,null,null,null,null,null,"開催年度　大会名","令和７年度　"]
[null,null,null,null,null,null,null,null,null,null,null,"大会名(サブタイトル）","第５３回熊本県高等学校総合体育大会レスリング競技"]
[null,null,null,"名前","ふりがな"]
[null,"監督名"]
[null,"引率者名"]
[]
[null,"階級",null,"選手名","ふりがな","生年月日\n(例:2004/1/19)","学年","選手手帳番号","日本協会登録番号","年齢",null,"ふりがな"]
[null,51,null,null,null,null,null,null,null,null,null,"学校名"]
[null,null,null,null,null,null,null,null,null,null,null,"ふりがな"]
[null,55,null,null,null,null,null,null,null,null,null,"所在地"]
[null,null,null,null,null,null,null,null,null,null,null,"郵便番号"]
[null,60,null,null,null,null,null,null,null,null,null,"TEL"]
[null,null,null,null,null,null,null,null,null,null,null,"FAX"]
[null,65,null,null,null,null,null,null,null,null,null,"学校長名"]
[null,null,null,null,null,null,null,null,null,null,null,"学校申込日"]
[null,71]
[]
[null,80]
[]
[null,125]
[]
[]
[null,"個人対抗戦（男子）"]
[]
[null,null,null,"名前","ふりがな"]
[null,"監督名"]
[null,"引率者名"]
[]
[null,"NO.","階級","選手名","ふりがな","生年月日\n(例:2004/1/19)","学年","選手手帳番号","日本協会登録番号","年齢","学校名"]
[null,null,51]
[]
[]
[null,null,null,null,null,null,null,null,null,{"$f":"IF(F33=\"\",\"\",DATEDIF(F33,TODAY(),\"Y\"))","v":""}]
[null,null,55]
[]
[]
[]
[null,null,60]
[]
[]
[]
[null,null,65]
[]
[]
[null,null,null,null,null,null,null,null,null,{"$f":"IF(F45=\"\",\"\",DATEDIF(F45,TODAY(),\"Y\"))","v":""}]
[null,null,71]
[]
[]
[]
[null,null,80]
[]
[]
[]
[null,null,92]
[]
[]
[]
[null,null,125]
[]
[]
[]
[]
[null,"個人対抗戦(女子）"]
[]
[null,null,null,"名前","ふりがな"]
[null,"監督名"]
[null,"引率者名"]
[]
[null,"NO.","階級","選手名","ふりがな","生年月日\n(例:2004/1/19)","学年","選手手帳番号","日本協会登録番号","年齢","学校名"]
[null,null,47,null,null,null,null,null,null,{"$f":"IF(F70=\"\",\"\",DATEDIF(F70,TODAY(),\"Y\"))","v":""}]
[null,null,null,null,null,null,null,null,null,""]
[null,null,50,null,null,null,null,null,null,""]
[null,null,null,null,null,null,null,null,null,""]
[null,null,53,null,null,null,null,null,null,""]
[null,null,null,null,null,null,null,null,null,""]
[null,null,57,null,null,null,null,null,null,""]
[null,null,null,null,null,null,null,null,null,""]
[null,null,62,null,null,null,null,null,null,""]
[null,null,null,null,null,null,null,null,null,""]
[null,null,68,null,null,null,null,null,null,""]
[null,null,null,null,null,null,null,null,null,""]
[null,null,74,null,null,null,null,null,null,""]
[null,null,null,null,null,null,null,null,null,""]

{"sheet":"学校対抗戦","index":1,"n_rows":35,"n_cols":8,"rows_kept":35,"cut":false,"hidden":false,"merged":[[0,0,0,7],[1,0,1,7],[2,0,2,7],[4,5,4,7],[5,5,5,7],[7,1,7,3],[7,5,7,7],[8,5,8,7],[9,5,9,7],[11,1,11,7],[12,5,12,7],[13,5,13,7],[15,1,15,2],[34,0,34,1],[34,2,34,3],[34,4,34,5],[4,0,5,0],[8,0,9,0],[8,1,9,3],[12,0,13,0],[12,1,13,3],[15,0,16,0],[15,3,16,3],[15,4,16,4],[15,5,16,5],[15,6,16,6],[15,7,16,7],[17,0,18,0],[19,0,20,0],[21,0,22,0],[23,0,24,0],[25,0,26,0],[27,0,28,0],[29,0,30,0]]}
[{"$f":"入力シート!M1","v":"令和７年度　"}]
[{"$f":"入力シート!M2","v":"第５３回熊本県高等学校総合体育大会レスリング競技"}]
["参 加 申 込 書"]
[]
["学校対抗戦"]
[]
[]
["ふりがな",{"$f":"入力シート!M7","v":0},null,null,"ふりがな",{"$f":"入力シート!E4","v":0}]
["学　校　名",{"$f":"入力シート!M8","v":0},null,null,"監　督　名",{"$f":"入力シート!D4","v":0}]
[null,null,null,null,"引率責任者",{"$f":"入力シート!D5","v":0}]
[]
["ふりがな",{"$f":"\"〒\"&入力シート!M11&\"     \"&入力シート!M9","v":"〒     "}]
["所　在　地",{"$f":"入力シート!M10","v":0},null,null,"電　話",{"$f":"入力シート!M12","v":0}]
[null,null,null,null,"F A X",{"$f":"入力シート!M13","v":0}]
[]
["区　分","選手名",null,"学 年","生 年 月 日","年 齢","選手手帳　　番号","日本協会　　　　　　　　　　　　　　　　　　　　　登録番号"]
[null,"氏  名","ふりがな"]
[{"$f":"入力シート!B8","v":51},{"$f":"IF(入力シート!D8=\"\",\"\",入力シート!D8)","v":""},{"$f":"IF(入力シート!E8=\"\",\"\",入力シート!E8)","v":""},{"$f":"IF(入力シート!G8=\"\",\"\",入力シート!G8)","v":""},{"$f":"IF(入力シート!F8=\"\",\"\",入力シート!F8)","v":""},{"$f":"IF(入力シート!J8=\"\",\"\",入力シート!J8)","v":""},{"$f":"IF(入力シート!H8=\"\",\"\",入力シート!H8)","v":""},{"$f":"IF(入力シート!I8=\"\",\"\",入力シート!I8)","v":""}]
[null,{"$f":"IF(入力シート!D9=\"\",\"\",入力シート!D9)","v":""},{"$f":"IF(入力シート!E9=\"\",\"\",入力シート!E9)","v":""},{"$f":"IF(入力シート!G9=\"\",\"\",入力シート!G9)","v":""},{"$f":"IF(入力シート!F9=\"\",\"\",入力シート!F9)","v":""},{"$f":"IF(入力シート!J9=\"\",\"\",入力シート!J9)","v":""},{"$f":"IF(入力シート!H9=\"\",\"\",入力シート!H9)","v":""},{"$f":"IF(入力シート!I9=\"\",\"\",入力シート!I9)","v":""}]
[{"$f":"入力シート!B10","v":55},{"$f":"IF(入力シート!D10=\"\",\"\",入力シート!D10)","v":""},{"$f":"IF(入力シート!E10=\"\",\"\",入力シート!E10)","v":""},{"$f":"IF(入力シート!G10=\"\",\"\",入力シート!G10)","v":""},{"$f":"IF(入力シート!F10=\"\",\"\",入力シート!F10)","v":""},{"$f":"IF(入力シート!J10=\"\",\"\",入力シート!J10)","v":""},{"$f":"IF(入力シート!H10=\"\",\"\",入力シート!H10)","v":""},{"$f":"IF(入力シート!I10=\"\",\"\",入力シート!I10)","v":""}]
[null,{"$f":"IF(入力シート!D11=\"\",\"\",入力シート!D11)","v":""},{"$f":"IF(入力シート!E11=\"\",\"\",入力シート!E11)","v":""},{"$f":"IF(入力シート!G11=\"\",\"\",入力シート!G11)","v":""},{"$f":"IF(入力シート!F11=\"\",\"\",入力シート!F11)","v":""},{"$f":"IF(入力シート!J11=\"\",\"\",入力シート!J11)","v":""},{"$f":"IF(入力シート!H11=\"\",\"\",入力シート!H11)","v":""},{"$f":"IF(入力シート!I11=\"\",\"\",入力シート!I11)","v":""}]
[{"$f":"入力シート!B12","v":60},{"$f":"IF(入力シート!D12=\"\",\"\",入力シート!D12)","v":""},{"$f":"IF(入力シート!E12=\"\",\"\",入力シート!E12)","v":""},{"$f":"IF(入力シート!G12=\"\",\"\",入力シート!G12)","v":""},{"$f":"IF(入力シート!F12=\"\",\"\",入力シート!F12)","v":""},{"$f":"IF(入力シート!J12=\"\",\"\",入力シート!J12)","v":""},{"$f":"IF(入力シート!H12=\"\",\"\",入力シート!H12)","v":""},{"$f":"IF(入力シート!I12=\"\",\"\",入力シート!I12)","v":""}]
[null,{"$f":"IF(入力シート!D13=\"\",\"\",入力シート!D13)","v":""},{"$f":"IF(入力シート!E13=\"\",\"\",入力シート!E13)","v":""},{"$f":"IF(入力シート!G13=\"\",\"\",入力シート!G13)","v":""},{"$f":"IF(入力シート!F13=\"\",\"\",入力シート!F13)","v":""},{"$f":"IF(入力シート!J13=\"\",\"\",入力シート!J13)","v":""},{"$f":"IF(入力シート!H13=\"\",\"\",入力シート!H13)","v":""},{"$f":"IF(入力シート!I13=\"\",\"\",入力シート!I13)","v":""}]
[{"$f":"入力シート!B14","v":65},{"$f":"IF(入力シート!D14=\"\",\"\",入力シート!D14)","v":""},{"$f":"IF(入力シート!E14=\"\",\"\",入力シート!E14)","v":""},{"$f":"IF(入力シート!G14=\"\",\"\",入力シート!G14)","v":""},{"$f":"IF(入力シート!F14=\"\",\"\",入力シート!F14)","v":""},{"$f":"IF(入力シート!J14=\"\",\"\",入力シート!J14)","v":""},{"$f":"IF(入力シート!H14=\"\",\"\",入力シート!H14)","v":""},{"$f":"IF(入力シート!I14=\"\",\"\",入力シート!I14)","v":""}]
[null,{"$f":"IF(入力シート!D15=\"\",\"\",入力シート!D15)","v":""},{"$f":"IF(入力シート!E15=\"\",\"\",入力シート!E15)","v":""},{"$f":"IF(入力シート!G15=\"\",\"\",入力シート!G15)","v":""},{"$f":"IF(入力シート!F15=\"\",\"\",入力シート!F15)","v":""},{"$f":"IF(入力シート!J15=\"\",\"\",入力シート!J15)","v":""},{"$f":"IF(入力シート!H15=\"\",\"\",入力シート!H15)","v":""},{"$f":"IF(入力シート!I15=\"\",\"\",入力シート!I15)","v":""}]
[{"$f":"入力シート!B16","v":71},{"$f":"IF(入力シート!D16=\"\",\"\",入力シート!D16)","v":""},{"$f":"IF(入力シート!E16=\"\",\"\",入力シート!E16)","v":""},{"$f":"IF(入力シート!G16=\"\",\"\",入力シート!G16)","v":""},{"$f":"IF(入力シート!F16=\"\",\"\",入力シート!F16)","v":""},{"$f":"IF(入力シート!J16=\"\",\"\",入力シート!J16)","v":""},{"$f":"IF(入力シート!H16=\"\",\"\",入力シート!H16)","v":""},{"$f":"IF(入力シート!I16=\"\",\"\",入力シート!I16)","v":""}]
[null,{"$f":"IF(入力シート!D17=\"\",\"\",入力シート!D17)","v":""},{"$f":"IF(入力シート!E17=\"\",\"\",入力シート!E17)","v":""},{"$f":"IF(入力シート!G17=\"\",\"\",入力シート!G17)","v":""},{"$f":"IF(入力シート!F17=\"\",\"\",入力シート!F17)","v":""},{"$f":"IF(入力シート!J17=\"\",\"\",入力シート!J17)","v":""},{"$f":"IF(入力シート!H17=\"\",\"\",入力シート!H17)","v":""},{"$f":"IF(入力シート!I17=\"\",\"\",入力シート!I17)","v":""}]
[{"$f":"入力シート!B18","v":80},{"$f":"IF(入力シート!D18=\"\",\"\",入力シート!D18)","v":""},{"$f":"IF(入力シート!E18=\"\",\"\",入力シート!E18)","v":""},{"$f":"IF(入力シート!G18=\"\",\"\",入力シート!G18)","v":""},{"$f":"IF(入力シート!F18=\"\",\"\",入力シート!F18)","v":""},{"$f":"IF(入力シート!J18=\"\",\"\",入力シート!J18)","v":""},{"$f":"IF(入力シート!H18=\"\",\"\",入力シート!H18)","v":""},{"$f":"IF(入力シート!I18=\"\",\"\",入力シート!I18)","v":""}]
[null,{"$f":"IF(入力シート!D19=\"\",\"\",入力シート!D19)","v":""},{"$f":"IF(入力シート!E19=\"\",\"\",入力シート!E19)","v":""},{"$f":"IF(入力シート!G19=\"\",\"\",入力シート!G19)","v":""},{"$f":"IF(入力シート!F19=\"\",\"\",入力シート!F19)","v":""},{"$f":"IF(入力シート!J19=\"\",\"\",入力シート!J19)","v":""},{"$f":"IF(入力シート!H19=\"\",\"\",入力シート!H19)","v":""},{"$f":"IF(入力シート!I19=\"\",\"\",入力シート!I19)","v":""}]
[{"$f":"入力シート!B20","v":125},{"$f":"IF(入力シート!D20=\"\",\"\",入力シート!D20)","v":""},{"$f":"IF(入力シート!E20=\"\",\"\",入力シート!E20)","v":""},{"$f":"IF(入力シート!G20=\"\",\"\",入力シート!G20)","v":""},{"$f":"IF(入力シート!F20=\"\",\"\",入力シート!F20)","v":""},{"$f":"IF(入力シート!J20=\"\",\"\",入力シート!J20)","v":""},{"$f":"IF(入力シート!H20=\"\",\"\",入力シート!H20)","v":""},{"$f":"IF(入力シート!I20=\"\",\"\",入力シート!I20)","v":""}]
[null,{"$f":"IF(入力シート!D21=\"\",\"\",入力シート!D21)","v":""},{"$f":"IF(入力シート!E21=\"\",\"\",入力シート!E21)","v":""},{"$f":"IF(入力シート!G21=\"\",\"\",入力シート!G21)","v":""},{"$f":"IF(入力シート!F21=\"\",\"\",入力シート!F21)","v":""},{"$f":"IF(入力シート!J21=\"\",\"\",入力シート!J21)","v":""},{"$f":"IF(入力シート!H21=\"\",\"\",入力シート!H21)","v":""},{"$f":"IF(入力シート!I21=\"\",\"\",入力シート!I21)","v":""}]
[]
["上記の者は本校在学生徒であり、標記大会に出場することを認め、参加申し込みをいたします。"]
[]
[{"$f":"入力シート!M15","v":"00:00:00"},null,{"$f":"入力シート!M8&\"長\"","v":"長"},null,{"$f":"入力シート!M14","v":0}]

{"sheet":"男子個人対抗戦","index":2,"n_rows":54,"n_cols":8,"rows_kept":54,"cut":false,"hidden":false,"merged":[[0,0,0,7],[1,0,1,7],[2,0,2,7],[4,5,4,7],[5,5,5,7],[7,1,7,3],[7,5,7,7],[8,5,8,7],[9,5,9,7],[11,1,11,7],[12,5,12,7],[13,5,13,7],[15,1,15,2],[53,0,53,1],[53,2,53,3],[53,4,53,5],[4,0,5,0],[8,0,9,0],[8,1,9,3],[12,0,13,0],[12,1,13,3],[15,0,16,0],[15,3,16,3],[15,4,16,4],[15,5,16,5],[15,6,16,6],[15,7,16,7],[17,0,20,0],[21,0,24,0],[25,0,29,0],[30,0,33,0],[34,0,37,0],[38,0,41,0],[42,0,45,0],[46,0,49,0]]}
[{"$f":"入力シート!M1","v":"令和７年度　"}]
[{"$f":"入力シート!M2","v":"第５３回熊本県高等学校総合体育大会レスリング競技"}]
["参 加 申 込 書"]
[]
["男子\n個人対抗戦"]
[]
[]
["ふりがな",{"$f":"入力シート!M7","v":0},null,null,"ふりがな",{"$f":"入力シート!E26","v":0}]
["学　校　名",{"$f":"入力シート!M8","v":0},null,null,"監　督　名",{"$f":"入力シート!D26","v":0}]
[null,null,null,null,"引率責任者",{"$f":"入力シート!D27","v":0}]
[]
["ふりがな",{"$f":"\"〒\"&入力シート!M11&\"     \"&入力シート!M9","v":"〒     "}]
["所　在　地",{"$f":"入力シート!M10","v":0},null,null,"電　話",{"$f":"入力シート!M12","v":0}]
[null,null,null,null,"F A X",{"$f":"入力シート!M13","v":0}]
[]
["区　分","選手名",null,"学 年","生 年 月 日","年 齢","選手手帳　　　　　　　　　　　　　番号","日本協会　　　　　　　　　　　　　　　　　　　　　登録番号"]
[null,"氏  名","ふりがな"]
[{"$f":"入力シート!C30","v":51},{"$f":"IF(入力シート!D30=\"\",\"\",入力シート!D30)","v":""},{"$f":"IF(入力シート!E30=\"\",\"\",入力シート!E30)","v":""},{"$f":"IF(入力シート!G30=\"\",\"\",入力シート!G30)","v":""},{"$f":"IF(入力シート!F30=\"\",\"\",入力シート!F30)","v":""},{"$f":"IF(入力シート!J30=\"\",\"\",入力シート!J30)","v":""},{"$f":"IF(入力シート!H30=\"\",\"\",入力シート!H30)","v":""},{"$f":"IF(入力シート!I30=\"\",\"\",入力シート!I30)","v":""}]
[null,{"$f":"IF(入力シート!D31=\"\",\"\",入力シート!D31)","v":""},{"$f":"IF(入力シート!E31=\"\",\"\",入力シート!E31)","v":""},{"$f":"IF(入力シート!G31=\"\",\"\",入力シート!G31)","v":""},{"$f":"IF(入力シート!F31=\"\",\"\",入力シート!F31)","v":""},{"$f":"IF(入力シート!J31=\"\",\"\",入力シート!J31)","v":""},{"$f":"IF(入力シート!H31=\"\",\"\",入力シート!H31)","v":""},{"$f":"IF(入力シート!I31=\"\",\"\",入力シート!I31)","v":""}]
[null,{"$f":"IF(入力シート!D32=\"\",\"\",入力シート!D32)","v":""},{"$f":"IF(入力シート!E32=\"\",\"\",入力シート!E32)","v":""},{"$f":"IF(入力シート!G32=\"\",\"\",入力シート!G32)","v":""},{"$f":"IF(入力シート!F32=\"\",\"\",入力シート!F32)","v":""},{"$f":"IF(入力シート!J32=\"\",\"\",入力シート!J32)","v":""},{"$f":"IF(入力シート!H32=\"\",\"\",入力シート!H32)","v":""},{"$f":"IF(入力シート!I32=\"\",\"\",入力シート!I32)","v":""}]
[null,{"$f":"IF(入力シート!D33=\"\",\"\",入力シート!D33)","v":""},{"$f":"IF(入力シート!E33=\"\",\"\",入力シート!E33)","v":""},{"$f":"IF(入力シート!G33=\"\",\"\",入力シート!G33)","v":""},{"$f":"IF(入力シート!F33=\"\",\"\",入力シート!F33)","v":""},{"$f":"IF(入力シート!J33=\"\",\"\",入力シート!J33)","v":""},{"$f":"IF(入力シート!H33=\"\",\"\",入力シート!H33)","v":""},{"$f":"IF(入力シート!I33=\"\",\"\",入力シート!I33)","v":""}]
[{"$f":"入力シート!C34","v":55},{"$f":"IF(入力シート!D34=\"\",\"\",入力シート!D34)","v":""},{"$f":"IF(入力シート!E34=\"\",\"\",入力シート!E34)","v":""},{"$f":"IF(入力シート!G34=\"\",\"\",入力シート!G34)","v":""},{"$f":"IF(入力シート!F34=\"\",\"\",入力シート!F34)","v":""},{"$f":"IF(入力シート!J34=\"\",\"\",入力シート!J34)","v":""},{"$f":"IF(入力シート!H34=\"\",\"\",入力シート!H34)","v":""},{"$f":"IF(入力シート!I34=\"\",\"\",入力シート!I34)","v":""}]
[null,{"$f":"IF(入力シート!D35=\"\",\"\",入力シート!D35)","v":""},{"$f":"IF(入力シート!E35=\"\",\"\",入力シート!E35)","v":""},{"$f":"IF(入力シート!G35=\"\",\"\",入力シート!G35)","v":""},{"$f":"IF(入力シート!F35=\"\",\"\",入力シート!F35)","v":""},{"$f":"IF(入力シート!J35=\"\",\"\",入力シート!J35)","v":""},{"$f":"IF(入力シート!H35=\"\",\"\",入力シート!H35)","v":""},{"$f":"IF(入力シート!I35=\"\",\"\",入力シート!I35)","v":""}]
[null,{"$f":"IF(入力シート!D36=\"\",\"\",入力シート!D36)","v":""},{"$f":"IF(入力シート!E36=\"\",\"\",入力シート!E36)","v":""},{"$f":"IF(入力シート!G36=\"\",\"\",入力シート!G36)","v":""},{"$f":"IF(入力シート!F36=\"\",\"\",入力シート!F36)","v":""},{"$f":"IF(入力シート!J36=\"\",\"\",入力シート!J36)","v":""},{"$f":"IF(入力シート!H36=\"\",\"\",入力シート!H36)","v":""},{"$f":"IF(入力シート!I36=\"\",\"\",入力シート!I36)","v":""}]
[null,{"$f":"IF(入力シート!D37=\"\",\"\",入力シート!D37)","v":""},{"$f":"IF(入力シート!E37=\"\",\"\",入力シート!E37)","v":""},{"$f":"IF(入力シート!G37=\"\",\"\",入力シート!G37)","v":""},{"$f":"IF(入力シート!F37=\"\",\"\",入力シート!F37)","v":""},{"$f":"IF(入力シート!J37=\"\",\"\",入力シート!J37)","v":""},{"$f":"IF(入力シート!H37=\"\",\"\",入力シート!H37)","v":""},{"$f":"IF(入力シート!I37=\"\",\"\",入力シート!I37)","v":""}]
[{"$f":"入力シート!C38","v":60},{"$f":"IF(入力シート!D38=\"\",\"\",入力シート!D38)","v":""},{"$f":"IF(入力シート!E38=\"\",\"\",入力シート!E38)","v":""},{"$f":"IF(入力シート!G38=\"\",\"\",入力シート!G38)","v":""},{"$f":"IF(入力シート!F38=\"\",\"\",入力シート!F38)","v":""},{"$f":"IF(入力シート!J38=\"\",\"\",入力シート!J38)","v":""},{"$f":"IF(入力シート!H38=\"\",\"\",入力シート!H38)","v":""},{"$f":"IF(入力シート!I38=\"\",\"\",入力シート!I38)","v":""}]
[null,{"$f":"IF(入力シート!D39=\"\",\"\",入力シート!D39)","v":""},{"$f":"IF(入力シート!E39=\"\",\"\",入力シート!E39)","v":""},{"$f":"IF(入力シート!G39=\"\",\"\",入力シート!G39)","v":""},{"$f":"IF(入力シート!F39=\"\",\"\",入力シート!F39)","v":""},{"$f":"IF(入力シート!J39=\"\",\"\",入力シート!J39)","v":""},{"$f":"IF(入力シート!H39=\"\",\"\",入力シート!H39)","v":""},{"$f":"IF(入力シート!I39=\"\",\"\",入力シート!I39)","v":""}]
[null,{"$f":"IF(#REF!=\"\",\"\",#REF!)","v":{"$error":"#REF!"}},{"$f":"IF(#REF!=\"\",\"\",#REF!)","v":{"$error":"#REF!"}},{"$f":"IF(#REF!=\"\",\"\",#REF!)","v":{"$error":"#REF!"}},{"$f":"IF(#REF!=\"\",\"\",#REF!)","v":{"$error":"#REF!"}},{"$f":"IF(#REF!=\"\",\"\",#REF!)","v":{"$error":"#REF!"}},{"$f":"IF(#REF!=\"\",\"\",#REF!)","v":{"$error":"#REF!"}},{"$f":"IF(#REF!=\"\",\"\",#REF!)","v":{"$error":"#REF!"}}]
[null,{"$f":"IF(入力シート!D40=\"\",\"\",入力シート!D40)","v":""},{"$f":"IF(入力シート!E40=\"\",\"\",入力シート!E40)","v":""},{"$f":"IF(入力シート!G40=\"\",\"\",入力シート!G40)","v":""},{"$f":"IF(入力シート!F40=\"\",\"\",入力シート!F40)","v":""},{"$f":"IF(入力シート!J40=\"\",\"\",入力シート!J40)","v":""},{"$f":"IF(入力シート!H40=\"\",\"\",入力シート!H40)","v":""},{"$f":"IF(入力シート!I40=\"\",\"\",入力シート!I40)","v":""}]
[null,{"$f":"IF(入力シート!D41=\"\",\"\",入力シート!D41)","v":""},{"$f":"IF(入力シート!E41=\"\",\"\",入力シート!E41)","v":""},{"$f":"IF(入力シート!G41=\"\",\"\",入力シート!G41)","v":""},{"$f":"IF(入力シート!F41=\"\",\"\",入力シート!F41)","v":""},{"$f":"IF(入力シート!J41=\"\",\"\",入力シート!J41)","v":""},{"$f":"IF(入力シート!H41=\"\",\"\",入力シート!H41)","v":""},{"$f":"IF(入力シート!I41=\"\",\"\",入力シート!I41)","v":""}]
[{"$f":"入力シート!C42","v":65},{"$f":"IF(入力シート!D42=\"\",\"\",入力シート!D42)","v":""},{"$f":"IF(入力シート!E42=\"\",\"\",入力シート!E42)","v":""},{"$f":"IF(入力シート!G42=\"\",\"\",入力シート!G42)","v":""},{"$f":"IF(入力シート!F42=\"\",\"\",入力シート!F42)","v":""},{"$f":"IF(入力シート!J42=\"\",\"\",入力シート!J42)","v":""},{"$f":"IF(入力シート!H42=\"\",\"\",入力シート!H42)","v":""},{"$f":"IF(入力シート!I42=\"\",\"\",入力シート!I42)","v":""}]
[null,{"$f":"IF(入力シート!D43=\"\",\"\",入力シート!D43)","v":""},{"$f":"IF(入力シート!E43=\"\",\"\",入力シート!E43)","v":""},{"$f":"IF(入力シート!G43=\"\",\"\",入力シート!G43)","v":""},{"$f":"IF(入力シート!F43=\"\",\"\",入力シート!F43)","v":""},{"$f":"IF(入力シート!J43=\"\",\"\",入力シート!J43)","v":""},{"$f":"IF(入力シート!H43=\"\",\"\",入力シート!H43)","v":""},{"$f":"IF(入力シート!I43=\"\",\"\",入力シート!I43)","v":""}]
[null,{"$f":"IF(入力シート!D44=\"\",\"\",入力シート!D44)","v":""},{"$f":"IF(入力シート!E44=\"\",\"\",入力シート!E44)","v":""},{"$f":"IF(入力シート!G44=\"\",\"\",入力シート!G44)","v":""},{"$f":"IF(入力シート!F44=\"\",\"\",入力シート!F44)","v":""},{"$f":"IF(入力シート!J44=\"\",\"\",入力シート!J44)","v":""},{"$f":"IF(入力シート!H44=\"\",\"\",入力シート!H44)","v":""},{"$f":"IF(入力シート!I44=\"\",\"\",入力シート!I44)","v":""}]
[null,{"$f":"IF(入力シート!D45=\"\",\"\",入力シート!D45)","v":""},{"$f":"IF(入力シート!E45=\"\",\"\",入力シート!E45)","v":""},{"$f":"IF(入力シート!G45=\"\",\"\",入力シート!G45)","v":""},{"$f":"IF(入力シート!F45=\"\",\"\",入力シート!F45)","v":""},{"$f":"IF(入力シート!J45=\"\",\"\",入力シート!J45)","v":""},{"$f":"IF(入力シート!H45=\"\",\"\",入力シート!H45)","v":""},{"$f":"IF(入力シート!I45=\"\",\"\",入力シート!I45)","v":""}]
[{"$f":"入力シート!C46","v":71},{"$f":"IF(入力シート!D46=\"\",\"\",入力シート!D46)","v":""},{"$f":"IF(入力シート!E46=\"\",\"\",入力シート!E46)","v":""},{"$f":"IF(入力シート!G46=\"\",\"\",入力シート!G46)","v":""},{"$f":"IF(入力シート!F46=\"\",\"\",入力シート!F46)","v":""},{"$f":"IF(入力シート!J46=\"\",\"\",入力シート!J46)","v":""},{"$f":"IF(入力シート!H46=\"\",\"\",入力シート!H46)","v":""},{"$f":"IF(入力シート!I46=\"\",\"\",入力シート!I46)","v":""}]
[null,{"$f":"IF(入力シート!D47=\"\",\"\",入力シート!D47)","v":""},{"$f":"IF(入力シート!E47=\"\",\"\",入力シート!E47)","v":""},{"$f":"IF(入力シート!G47=\"\",\"\",入力シート!G47)","v":""},{"$f":"IF(入力シート!F47=\"\",\"\",入力シート!F47)","v":""},{"$f":"IF(入力シート!J47=\"\",\"\",入力シート!J47)","v":""},{"$f":"IF(入力シート!H47=\"\",\"\",入力シート!H47)","v":""},{"$f":"IF(入力シート!I47=\"\",\"\",入力シート!I47)","v":""}]
[null,{"$f":"IF(入力シート!D48=\"\",\"\",入力シート!D48)","v":""},{"$f":"IF(入力シート!E48=\"\",\"\",入力シート!E48)","v":""},{"$f":"IF(入力シート!G48=\"\",\"\",入力シート!G48)","v":""},{"$f":"IF(入力シート!F48=\"\",\"\",入力シート!F48)","v":""},{"$f":"IF(入力シート!J48=\"\",\"\",入力シート!J48)","v":""},{"$f":"IF(入力シート!H48=\"\",\"\",入力シート!H48)","v":""},{"$f":"IF(入力シート!I48=\"\",\"\",入力シート!I48)","v":""}]
[null,{"$f":"IF(入力シート!D49=\"\",\"\",入力シート!D49)","v":""},{"$f":"IF(入力シート!E49=\"\",\"\",入力シート!E49)","v":""},{"$f":"IF(入力シート!G49=\"\",\"\",入力シート!G49)","v":""},{"$f":"IF(入力シート!F49=\"\",\"\",入力シート!F49)","v":""},{"$f":"IF(入力シート!J49=\"\",\"\",入力シート!J49)","v":""},{"$f":"IF(入力シート!H49=\"\",\"\",入力シート!H49)","v":""},{"$f":"IF(入力シート!I49=\"\",\"\",入力シート!I49)","v":""}]
[{"$f":"入力シート!C50","v":80},{"$f":"IF(入力シート!D50=\"\",\"\",入力シート!D50)","v":""},{"$f":"IF(入力シート!E50=\"\",\"\",入力シート!E50)","v":""},{"$f":"IF(入力シート!G50=\"\",\"\",入力シート!G50)","v":""},{"$f":"IF(入力シート!F50=\"\",\"\",入力シート!F50)","v":""},{"$f":"IF(入力シート!J50=\"\",\"\",入力シート!J50)","v":""},{"$f":"IF(入力シート!H50=\"\",\"\",入力シート!H50)","v":""},{"$f":"IF(入力シート!I50=\"\",\"\",入力シート!I50)","v":""}]
[null,{"$f":"IF(入力シート!D51=\"\",\"\",入力シート!D51)","v":""},{"$f":"IF(入力シート!E51=\"\",\"\",入力シート!E51)","v":""},{"$f":"IF(入力シート!G51=\"\",\"\",入力シート!G51)","v":""},{"$f":"IF(入力シート!F51=\"\",\"\",入力シート!F51)","v":""},{"$f":"IF(入力シート!J51=\"\",\"\",入力シート!J51)","v":""},{"$f":"IF(入力シート!H51=\"\",\"\",入力シート!H51)","v":""},{"$f":"IF(入力シート!I51=\"\",\"\",入力シート!I51)","v":""}]
[null,{"$f":"IF(入力シート!D52=\"\",\"\",入力シート!D52)","v":""},{"$f":"IF(入力シート!E52=\"\",\"\",入力シート!E52)","v":""},{"$f":"IF(入力シート!G52=\"\",\"\",入力シート!G52)","v":""},{"$f":"IF(入力シート!F52=\"\",\"\",入力シート!F52)","v":""},{"$f":"IF(入力シート!J52=\"\",\"\",入力シート!J52)","v":""},{"$f":"IF(入力シート!H52=\"\",\"\",入力シート!H52)","v":""},{"$f":"IF(入力シート!I52=\"\",\"\",入力シート!I52)","v":""}]
[null,{"$f":"IF(入力シート!D53=\"\",\"\",入力シート!D53)","v":""},{"$f":"IF(入力シート!E53=\"\",\"\",入力シート!E53)","v":""},{"$f":"IF(入力シート!G53=\"\",\"\",入力シート!G53)","v":""},{"$f":"IF(入力シート!F53=\"\",\"\",入力シート!F53)","v":""},{"$f":"IF(入力シート!J53=\"\",\"\",入力シート!J53)","v":""},{"$f":"IF(入力シート!H53=\"\",\"\",入力シート!H53)","v":""},{"$f":"IF(入力シート!I53=\"\",\"\",入力シート!I53)","v":""}]
[{"$f":"入力シート!C54","v":92},{"$f":"IF(入力シート!D54=\"\",\"\",入力シート!D54)","v":""},{"$f":"IF(入力シート!E54=\"\",\"\",入力シート!E54)","v":""},{"$f":"IF(入力シート!G54=\"\",\"\",入力シート!G54)","v":""},{"$f":"IF(入力シート!F54=\"\",\"\",入力シート!F54)","v":""},{"$f":"IF(入力シート!J54=\"\",\"\",入力シート!J54)","v":""},{"$f":"IF(入力シート!H54=\"\",\"\",入力シート!H54)","v":""},{"$f":"IF(入力シート!I54=\"\",\"\",入力シート!I54)","v":""}]
[null,{"$f":"IF(入力シート!D55=\"\",\"\",入力シート!D55)","v":""},{"$f":"IF(入力シート!E55=\"\",\"\",入力シート!E55)","v":""},{"$f":"IF(入力シート!G55=\"\",\"\",入力シート!G55)","v":""},{"$f":"IF(入力シート!F55=\"\",\"\",入力シート!F55)","v":""},{"$f":"IF(入力シート!J55=\"\",\"\",入力シート!J55)","v":""},{"$f":"IF(入力シート!H55=\"\",\"\",入力シート!H55)","v":""},{"$f":"IF(入力シート!I55=\"\",\"\",入力シート!I55)","v":""}]
[null,{"$f":"IF(入力シート!D56=\"\",\"\",入力シート!D56)","v":""},{"$f":"IF(入力シート!E56=\"\",\"\",入力シート!E56)","v":""},{"$f":"IF(入力シート!G56=\"\",\"\",入力シート!G56)","v":""},{"$f":"IF(入力シート!F56=\"\",\"\",入力シート!F56)","v":""},{"$f":"IF(入力シート!J56=\"\",\"\",入力シート!J56)","v":""},{"$f":"IF(入力シート!H56=\"\",\"\",入力シート!H56)","v":""},{"$f":"IF(入力シート!I56=\"\",\"\",入力シート!I56)","v":""}]
[null,{"$f":"IF(入力シート!D57=\"\",\"\",入力シート!D57)","v":""},{"$f":"IF(入力シート!E57=\"\",\"\",入力シート!E57)","v":""},{"$f":"IF(入力シート!G57=\"\",\"\",入力シート!G57)","v":""},{"$f":"IF(入力シート!F57=\"\",\"\",入力シート!F57)","v":""},{"$f":"IF(入力シート!J57=\"\",\"\",入力シート!J57)","v":""},{"$f":"IF(入力シート!H57=\"\",\"\",入力シート!H57)","v":""},{"$f":"IF(入力シート!I57=\"\",\"\",入力シート!I57)","v":""}]
[{"$f":"入力シート!C58","v":125},{"$f":"IF(入力シート!D58=\"\",\"\",入力シート!D58)","v":""},{"$f":"IF(入力シート!E58=\"\",\"\",入力シート!E58)","v":""},{"$f":"IF(入力シート!G58=\"\",\"\",入力シート!G58)","v":""},{"$f":"IF(入力シート!F58=\"\",\"\",入力シート!F58)","v":""},{"$f":"IF(入力シート!J58=\"\",\"\",入力シート!J58)","v":""},{"$f":"IF(入力シート!H58=\"\",\"\",入力シート!H58)","v":""},{"$f":"IF(入力シート!I58=\"\",\"\",入力シート!I58)","v":""}]
[null,{"$f":"IF(入力シート!D59=\"\",\"\",入力シート!D59)","v":""},{"$f":"IF(入力シート!E59=\"\",\"\",入力シート!E59)","v":""},{"$f":"IF(入力シート!G59=\"\",\"\",入力シート!G59)","v":""},{"$f":"IF(入力シート!F59=\"\",\"\",入力シート!F59)","v":""},{"$f":"IF(入力シート!J59=\"\",\"\",入力シート!J59)","v":""},{"$f":"IF(入力シート!H59=\"\",\"\",入力シート!H59)","v":""},{"$f":"IF(入力シート!I59=\"\",\"\",入力シート!I59)","v":""}]
[null,{"$f":"IF(入力シート!D60=\"\",\"\",入力シート!D60)","v":""},{"$f":"IF(入力シート!E60=\"\",\"\",入力シート!E60)","v":""},{"$f":"IF(入力シート!G60=\"\",\"\",入力シート!G60)","v":""},{"$f":"IF(入力シート!F60=\"\",\"\",入力シート!F60)","v":""},{"$f":"IF(入力シート!J60=\"\",\"\",入力シート!J60)","v":""},{"$f":"IF(入力シート!H60=\"\",\"\",入力シート!H60)","v":""},{"$f":"IF(入力シート!I60=\"\",\"\",入力シート!I60)","v":""}]
[null,{"$f":"IF(入力シート!D61=\"\",\"\",入力シート!D61)","v":""},{"$f":"IF(入力シート!E61=\"\",\"\",入力シート!E61)","v":""},{"$f":"IF(入力シート!G61=\"\",\"\",入力シート!G61)","v":""},{"$f":"IF(入力シート!F61=\"\",\"\",入力シート!F61)","v":""},{"$f":"IF(入力シート!J61=\"\",\"\",入力シート!J61)","v":""},{"$f":"IF(入力シート!H61=\"\",\"\",入力シート!H61)","v":""},{"$f":"IF(入力シート!I61=\"\",\"\",入力シート!I61)","v":""}]
[]
["上記の者は本校在学生徒であり、標記大会に出場することを認め、参加申し込みをいたします。"]
[]
[{"$f":"入力シート!M15","v":"00:00:00"},null,{"$f":"入力シート!M8&\"長\"","v":"長"},null,{"$f":"入力シート!M14","v":0}]

{"sheet":"女子個人対抗戦","index":3,"n_rows":35,"n_cols":8,"rows_kept":35,"cut":false,"hidden":false,"merged":[[0,0,0,7],[1,0,1,7],[2,0,2,7],[4,5,4,7],[5,5,5,7],[7,1,7,3],[7,5,7,7],[8,5,8,7],[9,5,9,7],[11,1,11,7],[12,5,12,7],[13,5,13,7],[15,1,15,2],[34,0,34,1],[34,2,34,3],[34,4,34,5],[4,0,5,0],[8,0,9,0],[8,1,9,3],[12,0,13,0],[12,1,13,3],[15,0,16,0],[15,3,16,3],[15,4,16,4],[15,5,16,5],[15,6,16,6],[15,7,16,7],[17,0,18,0],[19,0,20,0],[21,0,22,0],[23,0,24,0],[25,0,26,0],[27,0,28,0],[29,0,30,0]]}
[{"$f":"入力シート!M1","v":"令和７年度　"}]
[{"$f":"入力シート!M2","v":"第５３回熊本県高等学校総合体育大会レスリング競技"}]
["参 加 申 込 書"]
[]
["女子\n個人対抗戦"]
[]
[]
["ふりがな",{"$f":"入力シート!M7","v":0},null,null,"ふりがな",{"$f":"入力シート!E66","v":0}]
["学　校　名",{"$f":"入力シート!M8","v":0},null,null,"監　督　名",{"$f":"入力シート!D66","v":0}]
[null,null,null,null,"引率責任者",{"$f":"入力シート!D67","v":0}]
[]
["ふりがな",{"$f":"\"〒\"&入力シート!M11&\"     \"&入力シート!M9","v":"〒     "}]
["所　在　地",{"$f":"入力シート!M10","v":0},null,null,"電　話",{"$f":"入力シート!M12","v":0}]
[null,null,null,null,"F A X",{"$f":"入力シート!M13","v":0}]
[]
["区　分","選手名",null,"学 年","生 年 月 日","年 齢","選手手帳　　　　　　　　　　　　　番号","日本協会　　　　　　　　　　　　　　　　　　　　　登録番号"]
[null,"氏名","ふりがな"]
[{"$f":"入力シート!C70","v":47},{"$f":"IF(入力シート!D70=\"\",\"\",入力シート!D70)","v":""},{"$f":"IF(入力シート!E70=\"\",\"\",入力シート!E70)","v":""},{"$f":"IF(入力シート!G70=\"\",\"\",入力シート!G70)","v":""},{"$f":"IF(入力シート!F70=\"\",\"\",入力シート!F70)","v":""},{"$f":"IF(入力シート!J70=\"\",\"\",入力シート!J70)","v":""},{"$f":"IF(入力シート!H70=\"\",\"\",入力シート!H70)","v":""},{"$f":"IF(入力シート!I70=\"\",\"\",入力シート!I70)","v":""}]
[null,{"$f":"IF(入力シート!D71=\"\",\"\",入力シート!D71)","v":""},{"$f":"IF(入力シート!E71=\"\",\"\",入力シート!E71)","v":""},{"$f":"IF(入力シート!G71=\"\",\"\",入力シート!G71)","v":""},{"$f":"IF(入力シート!F71=\"\",\"\",入力シート!F71)","v":""},{"$f":"IF(入力シート!J71=\"\",\"\",入力シート!J71)","v":""},{"$f":"IF(入力シート!H71=\"\",\"\",入力シート!H71)","v":""},{"$f":"IF(入力シート!I71=\"\",\"\",入力シート!I71)","v":""}]
[{"$f":"入力シート!C72","v":50},{"$f":"IF(入力シート!D72=\"\",\"\",入力シート!D72)","v":""},{"$f":"IF(入力シート!E72=\"\",\"\",入力シート!E72)","v":""},{"$f":"IF(入力シート!G72=\"\",\"\",入力シート!G72)","v":""},{"$f":"IF(入力シート!F72=\"\",\"\",入力シート!F72)","v":""},{"$f":"IF(入力シート!J72=\"\",\"\",入力シート!J72)","v":""},{"$f":"IF(入力シート!H72=\"\",\"\",入力シート!H72)","v":""},{"$f":"IF(入力シート!I72=\"\",\"\",入力シート!I72)","v":""}]
[null,{"$f":"IF(入力シート!D73=\"\",\"\",入力シート!D73)","v":""},{"$f":"IF(入力シート!E73=\"\",\"\",入力シート!E73)","v":""},{"$f":"IF(入力シート!G73=\"\",\"\",入力シート!G73)","v":""},{"$f":"IF(入力シート!F73=\"\",\"\",入力シート!F73)","v":""},{"$f":"IF(入力シート!J73=\"\",\"\",入力シート!J73)","v":""},{"$f":"IF(入力シート!H73=\"\",\"\",入力シート!H73)","v":""},{"$f":"IF(入力シート!I73=\"\",\"\",入力シート!I73)","v":""}]
[{"$f":"入力シート!C74","v":53},{"$f":"IF(入力シート!D74=\"\",\"\",入力シート!D74)","v":""},{"$f":"IF(入力シート!E74=\"\",\"\",入力シート!E74)","v":""},{"$f":"IF(入力シート!G74=\"\",\"\",入力シート!G74)","v":""},{"$f":"IF(入力シート!F74=\"\",\"\",入力シート!F74)","v":""},{"$f":"IF(入力シート!J74=\"\",\"\",入力シート!J74)","v":""},{"$f":"IF(入力シート!H74=\"\",\"\",入力シート!H74)","v":""},{"$f":"IF(入力シート!I74=\"\",\"\",入力シート!I74)","v":""}]
[null,{"$f":"IF(入力シート!D75=\"\",\"\",入力シート!D75)","v":""},{"$f":"IF(入力シート!E75=\"\",\"\",入力シート!E75)","v":""},{"$f":"IF(入力シート!G75=\"\",\"\",入力シート!G75)","v":""},{"$f":"IF(入力シート!F75=\"\",\"\",入力シート!F75)","v":""},{"$f":"IF(入力シート!J75=\"\",\"\",入力シート!J75)","v":""},{"$f":"IF(入力シート!H75=\"\",\"\",入力シート!H75)","v":""},{"$f":"IF(入力シート!I75=\"\",\"\",入力シート!I75)","v":""}]
[{"$f":"入力シート!C76","v":57},{"$f":"IF(入力シート!D76=\"\",\"\",入力シート!D76)","v":""},{"$f":"IF(入力シート!E76=\"\",\"\",入力シート!E76)","v":""},{"$f":"IF(入力シート!G76=\"\",\"\",入力シート!G76)","v":""},{"$f":"IF(入力シート!F76=\"\",\"\",入力シート!F76)","v":""},{"$f":"IF(入力シート!J76=\"\",\"\",入力シート!J76)","v":""},{"$f":"IF(入力シート!H76=\"\",\"\",入力シート!H76)","v":""},{"$f":"IF(入力シート!I76=\"\",\"\",入力シート!I76)","v":""}]
[null,{"$f":"IF(入力シート!D77=\"\",\"\",入力シート!D77)","v":""},{"$f":"IF(入力シート!E77=\"\",\"\",入力シート!E77)","v":""},{"$f":"IF(入力シート!G77=\"\",\"\",入力シート!G77)","v":""},{"$f":"IF(入力シート!F77=\"\",\"\",入力シート!F77)","v":""},{"$f":"IF(入力シート!J77=\"\",\"\",入力シート!J77)","v":""},{"$f":"IF(入力シート!H77=\"\",\"\",入力シート!H77)","v":""},{"$f":"IF(入力シート!I77=\"\",\"\",入力シート!I77)","v":""}]
[{"$f":"入力シート!C78","v":62},{"$f":"IF(入力シート!D78=\"\",\"\",入力シート!D78)","v":""},{"$f":"IF(入力シート!E78=\"\",\"\",入力シート!E78)","v":""},{"$f":"IF(入力シート!G78=\"\",\"\",入力シート!G78)","v":""},{"$f":"IF(入力シート!F78=\"\",\"\",入力シート!F78)","v":""},{"$f":"IF(入力シート!J78=\"\",\"\",入力シート!J78)","v":""},{"$f":"IF(入力シート!H78=\"\",\"\",入力シート!H78)","v":""},{"$f":"IF(入力シート!I78=\"\",\"\",入力シート!I78)","v":""}]
[null,{"$f":"IF(入力シート!D79=\"\",\"\",入力シート!D79)","v":""},{"$f":"IF(入力シート!E79=\"\",\"\",入力シート!E79)","v":""},{"$f":"IF(入力シート!G79=\"\",\"\",入力シート!G79)","v":""},{"$f":"IF(入力シート!F79=\"\",\"\",入力シート!F79)","v":""},{"$f":"IF(入力シート!J79=\"\",\"\",入力シート!J79)","v":""},{"$f":"IF(入力シート!H79=\"\",\"\",入力シート!H79)","v":""},{"$f":"IF(入力シート!I79=\"\",\"\",入力シート!I79)","v":""}]
[{"$f":"入力シート!C80","v":68},{"$f":"IF(入力シート!D80=\"\",\"\",入力シート!D80)","v":""},{"$f":"IF(入力シート!E80=\"\",\"\",入力シート!E80)","v":""},{"$f":"IF(入力シート!G80=\"\",\"\",入力シート!G80)","v":""},{"$f":"IF(入力シート!F80=\"\",\"\",入力シート!F80)","v":""},{"$f":"IF(入力シート!J80=\"\",\"\",入力シート!J80)","v":""},{"$f":"IF(入力シート!H80=\"\",\"\",入力シート!H80)","v":""},{"$f":"IF(入力シート!I80=\"\",\"\",入力シート!I80)","v":""}]
[null,{"$f":"IF(入力シート!D81=\"\",\"\",入力シート!D81)","v":""},{"$f":"IF(入力シート!E81=\"\",\"\",入力シート!E81)","v":""},{"$f":"IF(入力シート!G81=\"\",\"\",入力シート!G81)","v":""},{"$f":"IF(入力シート!F81=\"\",\"\",入力シート!F81)","v":""},{"$f":"IF(入力シート!J81=\"\",\"\",入力シート!J81)","v":""},{"$f":"IF(入力シート!H81=\"\",\"\",入力シート!H81)","v":""},{"$f":"IF(入力シート!I81=\"\",\"\",入力シート!I81)","v":""}]
[{"$f":"入力シート!C82","v":74},{"$f":"IF(入力シート!D82=\"\",\"\",入力シート!D82)","v":""},{"$f":"IF(入力シート!E82=\"\",\"\",入力シート!E82)","v":""},{"$f":"IF(入力シート!G82=\"\",\"\",入力シート!G82)","v":""},{"$f":"IF(入力シート!F82=\"\",\"\",入力シート!F82)","v":""},{"$f":"IF(入力シート!J82=\"\",\"\",入力シート!J82)","v":""},{"$f":"IF(入力シート!H82=\"\",\"\",入力シート!H82)","v":""},{"$f":"IF(入力シート!I82=\"\",\"\",入力シート!I82)","v":""}]
[null,{"$f":"IF(入力シート!D83=\"\",\"\",入力シート!D83)","v":""},{"$f":"IF(入力シート!E83=\"\",\"\",入力シート!E83)","v":""},{"$f":"IF(入力シート!G83=\"\",\"\",入力シート!G83)","v":""},{"$f":"IF(入力シート!F83=\"\",\"\",入力シート!F83)","v":""},{"$f":"IF(入力シート!J83=\"\",\"\",入力シート!J83)","v":""},{"$f":"IF(入力シート!H83=\"\",\"\",入力シート!H83)","v":""},{"$f":"IF(入力シート!I83=\"\",\"\",入力シート!I83)","v":""}]
[]
["上記の者は本校在学生徒であり、標記大会に出場することを認め、参加申し込みをいたします。"]
[]
[{"$f":"入力シート!M15","v":"00:00:00"},null,{"$f":"入力シート!M8&\"長\"","v":"長"},null,{"$f":"入力シート!M14","v":0}]

{"sheet":"男子一覧表","index":4,"n_rows":39,"n_cols":12,"rows_kept":39,"cut":false,"hidden":false,"merged":[[0,7,0,8],[1,4,1,6],[1,8,1,9],[2,4,2,6],[38,7,38,8]]}
[null,null,null,null,"令和7年度",null,null,"2025-05-10",null,"現在"]
[null,null,null,null,"第53回熊本県高等学校総合体育大会レスリング競技",null,null,"記載責任者",{"$f":"入力シート!D26","v":0}]
[null,null,null,null,"参加生徒一覧（男子）"]
[]
[null,null,"性別","NO.","階級","氏名","ふりがな","所属","学年","登録NO.","生年月日","年齢"]
[null,null,"男",{"$f":"IF(入力シート!B30=\"\",\"\",入力シート!B30)","v":""},"５１㎏級"]
[null,null,"男",{"$f":"IF(入力シート!B31=\"\",\"\",入力シート!B31)","v":""},"５１㎏級"]
[null,null,"男",{"$f":"IF(入力シート!B32=\"\",\"\",入力シート!B32)","v":""},"５１㎏級"]
[null,null,"男",{"$f":"IF(入力シート!B33=\"\",\"\",入力シート!B33)","v":""},"５１㎏級"]
[null,null,"男",{"$f":"IF(入力シート!B34=\"\",\"\",入力シート!B34)","v":""},"５５㎏級"]
[null,null,"男",{"$f":"IF(入力シート!B35=\"\",\"\",入力シート!B35)","v":""},"５５㎏級"]
[null,null,"男",{"$f":"IF(入力シート!B36=\"\",\"\",入力シート!B36)","v":""},"５５㎏級"]
[null,null,"男",{"$f":"IF(入力シート!B37=\"\",\"\",入力シート!B37)","v":""},"５５㎏級"]
[null,null,"男",{"$f":"IF(入力シート!B38=\"\",\"\",入力シート!B38)","v":""},"６０㎏級"]
[null,null,"男",{"$f":"IF(入力シート!B39=\"\",\"\",入力シート!B39)","v":""},"６０㎏級"]
[null,null,"男",{"$f":"IF(#REF!=\"\",\"\",#REF!)","v":{"$error":"#REF!"}},"６０㎏級"]
[null,null,"男",{"$f":"IF(入力シート!B40=\"\",\"\",入力シート!B40)","v":""},"６０㎏級"]
[null,null,"男",{"$f":"IF(入力シート!B42=\"\",\"\",入力シート!B42)","v":""},"６５㎏級"]
[null,null,"男",{"$f":"IF(入力シート!B43=\"\",\"\",入力シート!B43)","v":""},"６５㎏級"]
[null,null,"男",{"$f":"IF(入力シート!B44=\"\",\"\",入力シート!B44)","v":""},"６５㎏級"]
[null,null,"男",{"$f":"IF(入力シート!B45=\"\",\"\",入力シート!B45)","v":""},"６５㎏級"]
[null,null,"男",{"$f":"IF(入力シート!B46=\"\",\"\",入力シート!B46)","v":""},"７１㎏級"]
[null,null,"男",{"$f":"IF(入力シート!B47=\"\",\"\",入力シート!B47)","v":""},"７１㎏級"]
[null,null,"男",{"$f":"IF(入力シート!B48=\"\",\"\",入力シート!B48)","v":""},"７１㎏級"]
[null,null,"男",{"$f":"IF(入力シート!B49=\"\",\"\",入力シート!B49)","v":""},"71㎏級"]
[null,null,"男",{"$f":"IF(入力シート!B50=\"\",\"\",入力シート!B50)","v":""},"８０㎏級"]
[null,null,"男",{"$f":"IF(入力シート!B51=\"\",\"\",入力シート!B51)","v":""},"８０㎏級"]
[null,null,"男",{"$f":"IF(入力シート!B52=\"\",\"\",入力シート!B52)","v":""},"８０㎏級"]
[null,null,"男",{"$f":"IF(入力シート!B53=\"\",\"\",入力シート!B53)","v":""},"８０㎏級"]
[null,null,"男",{"$f":"IF(入力シート!B54=\"\",\"\",入力シート!B54)","v":""},"９２㎏級"]
[null,null,"男",{"$f":"IF(入力シート!B55=\"\",\"\",入力シート!B55)","v":""},"９２㎏級"]
[null,null,"男",{"$f":"IF(入力シート!B56=\"\",\"\",入力シート!B56)","v":""},"９２㎏級"]
[null,null,"男",{"$f":"IF(入力シート!B57=\"\",\"\",入力シート!B57)","v":""},"９２㎏級"]
[null,null,"男",{"$f":"IF(入力シート!B58=\"\",\"\",入力シート!B58)","v":""},"１２５㎏級"]
[null,null,"男",{"$f":"IF(入力シート!B59=\"\",\"\",入力シート!B59)","v":""},"１２５㎏級"]
[null,null,"男",{"$f":"IF(入力シート!B60=\"\",\"\",入力シート!B60)","v":""},"１２５㎏級"]
[null,null,"男",{"$f":"IF(入力シート!B61=\"\",\"\",入力シート!B61)","v":""},"１２５㎏級"]
[]
[null,null,null,null,null,null,"参加者合計"]

{"sheet":"女子一覧表","index":5,"n_rows":21,"n_cols":12,"rows_kept":21,"cut":false,"hidden":false,"merged":[[0,4,0,5],[0,7,0,8],[1,4,1,6],[1,8,1,9],[2,4,2,6],[20,7,20,8]]}
[null,null,null,null,"令和7年度",null,null,"2025-05-10",null,"現在"]
[null,null,null,null,"第53回熊本県高等学校総合体育大会レスリング競技",null,null,"記載責任者",{"$f":"入力シート!D26","v":0}]
[null,null,null,null,"参加生徒一覧（女子）"]
[]
[null,null,"性別","NO.","階級","氏名","ふりがな","所属","学年","登録NO.","生年月日","年齢"]
[null,null,"女",{"$f":"IF(入力シート!B70=\"\",\"\",入力シート!B70)","v":""},"４７㎏級",{"$f":"IF(入力シート!D70=\"\",\"\",入力シート!D70)","v":""},{"$f":"IF(入力シート!E70=\"\",\"\",入力シート!E70)","v":""},{"$f":"IF(入力シート!K70=\"\",\"\",入力シート!K70)","v":""},{"$f":"IFERROR(ROUNDDOWN(DATE(YEAR($H$1)-YEAR(K6)-14,5-MONTH(K6),1-DAY(K6))/365.25,0),\"\")","v":""},{"$f":"IF(入力シート!H70=\"\",\"\",入力シート!H70)","v":""},{"$f":"IF(入力シート!F70=\"\",\"\",入力シート!F70)","v":""},{"$f":"IFERROR(DATEDIF(K6,$H$1,\"Y\"),\"\")","v":""}]
[null,null,"女",{"$f":"IF(入力シート!B71=\"\",\"\",入力シート!B71)","v":""},"４７㎏級",{"$f":"IF(入力シート!D71=\"\",\"\",入力シート!D71)","v":""},{"$f":"IF(入力シート!E71=\"\",\"\",入力シート!E71)","v":""},{"$f":"IF(入力シート!K71=\"\",\"\",入力シート!K71)","v":""},"",{"$f":"IF(入力シート!H71=\"\",\"\",入力シート!H71)","v":""},{"$f":"IF(入力シート!F71=\"\",\"\",入力シート!F71)","v":""},""]
[null,null,"女",{"$f":"IF(入力シート!B72=\"\",\"\",入力シート!B72)","v":""},"５０㎏級",{"$f":"IF(入力シート!D72=\"\",\"\",入力シート!D72)","v":""},{"$f":"IF(入力シート!E72=\"\",\"\",入力シート!E72)","v":""},{"$f":"IF(入力シート!K72=\"\",\"\",入力シート!K72)","v":""},"",{"$f":"IF(入力シート!H72=\"\",\"\",入力シート!H72)","v":""},{"$f":"IF(入力シート!F72=\"\",\"\",入力シート!F72)","v":""},""]
[null,null,"女",{"$f":"IF(入力シート!B73=\"\",\"\",入力シート!B73)","v":""},"５０㎏級",{"$f":"IF(入力シート!D73=\"\",\"\",入力シート!D73)","v":""},{"$f":"IF(入力シート!E73=\"\",\"\",入力シート!E73)","v":""},{"$f":"IF(入力シート!K73=\"\",\"\",入力シート!K73)","v":""},"",{"$f":"IF(入力シート!H73=\"\",\"\",入力シート!H73)","v":""},{"$f":"IF(入力シート!F73=\"\",\"\",入力シート!F73)","v":""},""]
[null,null,"女",{"$f":"IF(入力シート!B74=\"\",\"\",入力シート!B74)","v":""},"５３㎏級",{"$f":"IF(入力シート!D74=\"\",\"\",入力シート!D74)","v":""},{"$f":"IF(入力シート!E74=\"\",\"\",入力シート!E74)","v":""},{"$f":"IF(入力シート!K74=\"\",\"\",入力シート!K74)","v":""},"",{"$f":"IF(入力シート!H74=\"\",\"\",入力シート!H74)","v":""},{"$f":"IF(入力シート!F74=\"\",\"\",入力シート!F74)","v":""},""]
[null,null,"女",{"$f":"IF(入力シート!B75=\"\",\"\",入力シート!B75)","v":""},"５３㎏級",{"$f":"IF(入力シート!D75=\"\",\"\",入力シート!D75)","v":""},{"$f":"IF(入力シート!E75=\"\",\"\",入力シート!E75)","v":""},{"$f":"IF(入力シート!K75=\"\",\"\",入力シート!K75)","v":""},"",{"$f":"IF(入力シート!H75=\"\",\"\",入力シート!H75)","v":""},{"$f":"IF(入力シート!F75=\"\",\"\",入力シート!F75)","v":""},""]
[null,null,"女",{"$f":"IF(入力シート!B76=\"\",\"\",入力シート!B76)","v":""},"５７㎏級",{"$f":"IF(入力シート!D76=\"\",\"\",入力シート!D76)","v":""},{"$f":"IF(入力シート!E76=\"\",\"\",入力シート!E76)","v":""},{"$f":"IF(入力シート!K76=\"\",\"\",入力シート!K76)","v":""},"",{"$f":"IF(入力シート!H76=\"\",\"\",入力シート!H76)","v":""},{"$f":"IF(入力シート!F76=\"\",\"\",入力シート!F76)","v":""},""]
[null,null,"女",{"$f":"IF(入力シート!B77=\"\",\"\",入力シート!B77)","v":""},"５７㎏級",{"$f":"IF(入力シート!D77=\"\",\"\",入力シート!D77)","v":""},{"$f":"IF(入力シート!E77=\"\",\"\",入力シート!E77)","v":""},{"$f":"IF(入力シート!K77=\"\",\"\",入力シート!K77)","v":""},"",{"$f":"IF(入力シート!H77=\"\",\"\",入力シート!H77)","v":""},{"$f":"IF(入力シート!F77=\"\",\"\",入力シート!F77)","v":""},""]
[null,null,"女",{"$f":"IF(入力シート!B78=\"\",\"\",入力シート!B78)","v":""},"６２㎏級",{"$f":"IF(入力シート!D78=\"\",\"\",入力シート!D78)","v":""},{"$f":"IF(入力シート!E78=\"\",\"\",入力シート!E78)","v":""},{"$f":"IF(入力シート!K78=\"\",\"\",入力シート!K78)","v":""},"",{"$f":"IF(入力シート!H78=\"\",\"\",入力シート!H78)","v":""},{"$f":"IF(入力シート!F78=\"\",\"\",入力シート!F78)","v":""},""]
[null,null,"女",{"$f":"IF(入力シート!B79=\"\",\"\",入力シート!B79)","v":""},"６２㎏級",{"$f":"IF(入力シート!D79=\"\",\"\",入力シート!D79)","v":""},{"$f":"IF(入力シート!E79=\"\",\"\",入力シート!E79)","v":""},{"$f":"IF(入力シート!K79=\"\",\"\",入力シート!K79)","v":""},"",{"$f":"IF(入力シート!H79=\"\",\"\",入力シート!H79)","v":""},{"$f":"IF(入力シート!F79=\"\",\"\",入力シート!F79)","v":""},""]
[null,null,"女",{"$f":"IF(入力シート!B80=\"\",\"\",入力シート!B80)","v":""},"６８㎏級",{"$f":"IF(入力シート!D80=\"\",\"\",入力シート!D80)","v":""},{"$f":"IF(入力シート!E80=\"\",\"\",入力シート!E80)","v":""},{"$f":"IF(入力シート!K80=\"\",\"\",入力シート!K80)","v":""},"",{"$f":"IF(入力シート!H80=\"\",\"\",入力シート!H80)","v":""},{"$f":"IF(入力シート!F80=\"\",\"\",入力シート!F80)","v":""},""]
[null,null,"女",{"$f":"IF(入力シート!B81=\"\",\"\",入力シート!B81)","v":""},"６８㎏級",{"$f":"IF(入力シート!D81=\"\",\"\",入力シート!D81)","v":""},{"$f":"IF(入力シート!E81=\"\",\"\",入力シート!E81)","v":""},{"$f":"IF(入力シート!K81=\"\",\"\",入力シート!K81)","v":""},"",{"$f":"IF(入力シート!H81=\"\",\"\",入力シート!H81)","v":""},{"$f":"IF(入力シート!F81=\"\",\"\",入力シート!F81)","v":""},""]
[null,null,"女",{"$f":"IF(入力シート!B82=\"\",\"\",入力シート!B82)","v":""},"７４㎏級",{"$f":"IF(入力シート!D82=\"\",\"\",入力シート!D82)","v":""},{"$f":"IF(入力シート!E82=\"\",\"\",入力シート!E82)","v":""},{"$f":"IF(入力シート!K82=\"\",\"\",入力シート!K82)","v":""},"",{"$f":"IF(入力シート!H82=\"\",\"\",入力シート!H82)","v":""},{"$f":"IF(入力シート!F82=\"\",\"\",入力シート!F82)","v":""},""]
[null,null,"女",{"$f":"IF(入力シート!B83=\"\",\"\",入力シート!B83)","v":""},"７４㎏級",{"$f":"IF(入力シート!D83=\"\",\"\",入力シート!D83)","v":""},{"$f":"IF(入力シート!E83=\"\",\"\",入力シート!E83)","v":""},{"$f":"IF(入力シート!K83=\"\",\"\",入力シート!K83)","v":""},"",{"$f":"IF(入力シート!H83=\"\",\"\",入力シート!H83)","v":""},{"$f":"IF(入力シート!F83=\"\",\"\",入力シート!F83)","v":""},""]
[]
[null,null,null,null,null,null,"参加者合計",14]